BEGIN:VCALENDAR
VERSION:2.0
PRODID:-//STADTKULTUR HAMBURG//kultur-hamburg.de///DE
CALSCALE:GREGORIAN
BEGIN:VEVENT
X-WR-TIMEZONE:Europe/Berlin
DTSTART:20260528T194500
DTEND:20260528T214500
LOCATION:Horner Freiheit \, Am Gojenboom 46 \, 22111 Hamburg
DTSTAMP:20260423T124238
SUMMARY:Tanzkreis "Op'n Böön"
URL;VALUE=URI:https://www.kultur-hamburg.de/veranstaltungen/tanzkreis-op'n-boeoen-799270
DESCRIPTION:Folkloretanz
UID:93920c8661996e4153dd8f69fb4b84b2@kulturhamburg
END:VEVENT
END:VCALENDAR