BEGIN:VCALENDAR
VERSION:2.0
PRODID:-//STADTKULTUR HAMBURG//kultur-hamburg.de///DE
CALSCALE:GREGORIAN
BEGIN:VEVENT
X-WR-TIMEZONE:Europe/Berlin
DTSTART:20260607T110000
DTEND:20260607T120000
LOCATION:KulturWerk Rahlstedt e.V. \, Boizenburger Weg 7 \, 22143 Hamburg
DTSTAMP:20260426T004623
SUMMARY:Rahlstedt singt
URL;VALUE=URI:https://www.kultur-hamburg.de/veranstaltungen/rahlstedt-singt-799321
DESCRIPTION:Offener Singkreis
UID:225ffb77b7fbd6fe2fd1a35d0978568f@kulturhamburg
END:VEVENT
END:VCALENDAR