BEGIN:VCALENDAR
VERSION:2.0
PRODID:-//STADTKULTUR HAMBURG//kultur-hamburg.de///DE
CALSCALE:GREGORIAN
BEGIN:VEVENT
X-WR-TIMEZONE:Europe/Berlin
DTSTART:20260705T110000
DTEND:20260705T120000
LOCATION:KulturWerk Rahlstedt e.V. \, Boizenburger Weg 7 \, 22143 Hamburg
DTSTAMP:20260426T024422
SUMMARY:Rahlstedt singt
URL;VALUE=URI:https://www.kultur-hamburg.de/veranstaltungen/rahlstedt-singt-799322
DESCRIPTION:Offener Singkreis
UID:700fa05ef2b082c3f69447af0b97ac5a@kulturhamburg
END:VEVENT
END:VCALENDAR