BEGIN:VCALENDAR
VERSION:2.0
PRODID:-//STADTKULTUR HAMBURG//kultur-hamburg.de///DE
CALSCALE:GREGORIAN
BEGIN:VEVENT
X-WR-TIMEZONE:Europe/Berlin
DTSTART:20260514T180000
DTEND:20260514T190000
LOCATION:Horner Freiheit \, Am Gojenboom 46 \, 22111 Hamburg
DTSTAMP:20260422T111552
SUMMARY:Deutsche-Friedensgesellschaft Vereinigte KriegsdienstgegnerInnen: Beratung für Kriegsdienstverweigerer
URL;VALUE=URI:https://www.kultur-hamburg.de/veranstaltungen/deutsche-friedensgesellschaft-vereinigte-kriegsdienstgegnerinnen-beratung-fuer-kriegsdienstverweigerer-799670
DESCRIPTION:Kriegsdienstverweigerung: So geht’s!
UID:b01fe343d365c0b01d25aee27d6b9ef6@kulturhamburg
END:VEVENT
END:VCALENDAR