BEGIN:VCALENDAR
VERSION:2.0
PRODID:-//STADTKULTUR HAMBURG//kultur-hamburg.de///DE
CALSCALE:GREGORIAN
BEGIN:VEVENT
X-WR-TIMEZONE:Europe/Berlin
DTSTART:20260528T180000
DTEND:20260528T190000
LOCATION:Horner Freiheit \, Am Gojenboom 46 \, 22111 Hamburg
DTSTAMP:20260423T124136
SUMMARY:Deutsche-Friedensgesellschaft Vereinigte KriegsdienstgegnerInnen: Beratung für Kriegsdienstverweigerer
URL;VALUE=URI:https://www.kultur-hamburg.de/veranstaltungen/deutsche-friedensgesellschaft-vereinigte-kriegsdienstgegnerinnen-beratung-fuer-kriegsdienstverweigerer-799672
DESCRIPTION:Kriegsdienstverweigerung: So geht’s!
UID:87d9ef03c15162b03b529a819c40ca94@kulturhamburg
END:VEVENT
END:VCALENDAR