BEGIN:VCALENDAR
VERSION:2.0
PRODID:-//STADTKULTUR HAMBURG//kultur-hamburg.de///DE
CALSCALE:GREGORIAN
BEGIN:VEVENT
X-WR-TIMEZONE:Europe/Berlin
DTSTART:20260320T110000
DTEND:20260320T180000
LOCATION:KUNSTKLINIK \, Martinistraße 44a \, 20251 Hamburg
DTSTAMP:20260419T160659
SUMMARY:Ausstellung: Anna Stemer – Belichtet
URL;VALUE=URI:https://www.kultur-hamburg.de/veranstaltungen/ausstellung-anna-stemer--belichtet-800255
DESCRIPTION:Die Ausstellung „Belichtet“ zeigt Acrylbilder von nächtlichen Szenen und urbanen Momenten, die Hamburgs Lichter und pulsierenden Alltag atmosphärisch einfangen.

Eintritt frei
UID:c7d1363fd990419eda5f3431d503af0b@kulturhamburg
END:VEVENT
END:VCALENDAR