BEGIN:VCALENDAR
VERSION:2.0
PRODID:-//STADTKULTUR HAMBURG//kultur-hamburg.de///DE
CALSCALE:GREGORIAN
BEGIN:VEVENT
X-WR-TIMEZONE:Europe/Berlin
DTSTART:20260224T100000
DTEND:20260224T110000
LOCATION:FUNDUS THEATER \, Sievekingdamm 3 - Platz der Kinderrechte \, 20535 Hamburg
DTSTAMP:20260422T125205
SUMMARY:DANE MACHINES (ab 11 Jahre)
URL;VALUE=URI:https://www.kultur-hamburg.de/veranstaltungen/dane-machines-ab-11-jahre-801560
DESCRIPTION:Eine multimediale Bewegungserfahrung
UID:460c6bc4bad6ac451b7aac461f0e2b63@kulturhamburg
END:VEVENT
END:VCALENDAR