BEGIN:VCALENDAR
VERSION:2.0
PRODID:-//STADTKULTUR HAMBURG//kultur-hamburg.de///DE
CALSCALE:GREGORIAN
BEGIN:VEVENT
X-WR-TIMEZONE:Europe/Berlin
DTSTART:20260507T193000
DTEND:20260507T204000
LOCATION:Mut! Theater \, Amandastraße 58 \, 20357 Hamburg
DTSTAMP:20260419T233411
SUMMARY:die Herausforderung der Ungebrochener
URL;VALUE=URI:https://www.kultur-hamburg.de/veranstaltungen/die-herausforderung-der-ungebrochener-801722
DESCRIPTION:Was ist Freiheit, wenn selbst der Gedanke in Ketten liegt, wenn ein Flüstern im Innern schon als Aufbegehren gilt?
UID:1ca563c4ec76a3d9c8c05a6b00413729@kulturhamburg
END:VEVENT
END:VCALENDAR