BEGIN:VCALENDAR
VERSION:2.0
PRODID:-//STADTKULTUR HAMBURG//kultur-hamburg.de///DE
CALSCALE:GREGORIAN
BEGIN:VEVENT
X-WR-TIMEZONE:Europe/Berlin
DTSTART:20260504T100000
DTEND:20260504T110000
LOCATION:FUNDUS THEATER \, Sievekingdamm 3 - Platz der Kinderrechte \, 20535 Hamburg
DTSTAMP:20260419T183640
SUMMARY:Drachen Probe (ab 5 Jahre)
URL;VALUE=URI:https://www.kultur-hamburg.de/veranstaltungen/drachen-probe-ab-5-jahre-801737
DESCRIPTION:Das Besondere an diesem Theaterstück ist, dass ihr erleben könnt, wie Theater entsteht.
UID:fba3eb146ee5b4b57767fe3f99a5e7cd@kulturhamburg
END:VEVENT
END:VCALENDAR