BEGIN:VCALENDAR
VERSION:2.0
PRODID:-//STADTKULTUR HAMBURG//kultur-hamburg.de///DE
CALSCALE:GREGORIAN
BEGIN:VEVENT
X-WR-TIMEZONE:Europe/Berlin
DTSTART:20260505T100000
DTEND:20260505T110000
LOCATION:FUNDUS THEATER \, Sievekingdamm 3 - Platz der Kinderrechte \, 20535 Hamburg
DTSTAMP:20260419T201852
SUMMARY:Drachen Probe (ab 5 Jahre)
URL;VALUE=URI:https://www.kultur-hamburg.de/veranstaltungen/drachen-probe-ab-5-jahre-801738
DESCRIPTION:Das Besondere an diesem Theaterstück ist, dass ihr erleben könnt, wie Theater entsteht.
UID:3333363654cc124ebb71f9cca7bbd103@kulturhamburg
END:VEVENT
END:VCALENDAR