BEGIN:VCALENDAR
VERSION:2.0
PRODID:-//STADTKULTUR HAMBURG//kultur-hamburg.de///DE
CALSCALE:GREGORIAN
BEGIN:VEVENT
X-WR-TIMEZONE:Europe/Berlin
DTSTART:20260507T100000
DTEND:20260507T110000
LOCATION:FUNDUS THEATER \, Sievekingdamm 3 - Platz der Kinderrechte \, 20535 Hamburg
DTSTAMP:20260419T233556
SUMMARY:Drachen Probe (ab 5 Jahre)
URL;VALUE=URI:https://www.kultur-hamburg.de/veranstaltungen/drachen-probe-ab-5-jahre-801740
DESCRIPTION:Das Besondere an diesem Theaterstück ist, dass ihr erleben könnt, wie Theater entsteht.
UID:004b8daffcb1d315c01472f92228c03c@kulturhamburg
END:VEVENT
END:VCALENDAR