BEGIN:VCALENDAR
VERSION:2.0
PRODID:-//STADTKULTUR HAMBURG//kultur-hamburg.de///DE
CALSCALE:GREGORIAN
BEGIN:VEVENT
X-WR-TIMEZONE:Europe/Berlin
DTSTART:20260510T160000
DTEND:20260510T170000
LOCATION:FUNDUS THEATER \, Sievekingdamm 3 - Platz der Kinderrechte \, 20535 Hamburg
DTSTAMP:20260420T045113
SUMMARY:Brie lernt fliegen (ab 6 Jahre)
URL;VALUE=URI:https://www.kultur-hamburg.de/veranstaltungen/brie-lernt-fliegen-ab-6-jahre-801741
DESCRIPTION:
UID:1cad0f5a4b4758c3fa74a5001e445178@kulturhamburg
END:VEVENT
END:VCALENDAR