BEGIN:VCALENDAR
VERSION:2.0
PRODID:-//STADTKULTUR HAMBURG//kultur-hamburg.de///DE
CALSCALE:GREGORIAN
BEGIN:VEVENT
X-WR-TIMEZONE:Europe/Berlin
DTSTART:20260520T100000
DTEND:20260520T110000
LOCATION:FUNDUS THEATER \, Sievekingdamm 3 - Platz der Kinderrechte \, 20535 Hamburg
DTSTAMP:20260422T230735
SUMMARY:1400 Tonnen Sand (3-10 J.+Erw.)
URL;VALUE=URI:https://www.kultur-hamburg.de/veranstaltungen/1400-tonnen-sand-3-10-j.erw.-801743
DESCRIPTION:oder warum dem Sandmann die Träume ausgehen
UID:28af84dd98e19a5bfc08673ec2d58656@kulturhamburg
END:VEVENT
END:VCALENDAR