BEGIN:VCALENDAR
VERSION:2.0
PRODID:-//STADTKULTUR HAMBURG//kultur-hamburg.de///DE
CALSCALE:GREGORIAN
BEGIN:VEVENT
X-WR-TIMEZONE:Europe/Berlin
DTSTART:20260522T100000
DTEND:20260522T110000
LOCATION:FUNDUS THEATER \, Sievekingdamm 3 - Platz der Kinderrechte \, 20535 Hamburg
DTSTAMP:20260423T023505
SUMMARY:1400 Tonnen Sand (3-10 J.+Erw.)
URL;VALUE=URI:https://www.kultur-hamburg.de/veranstaltungen/1400-tonnen-sand-3-10-j.erw.-801745
DESCRIPTION:oder warum dem Sandmann die Träume ausgehen
UID:8c4bbf2638f4ee760410ce9dfe9fb5f8@kulturhamburg
END:VEVENT
END:VCALENDAR