BEGIN:VCALENDAR
VERSION:2.0
PRODID:-//STADTKULTUR HAMBURG//kultur-hamburg.de///DE
CALSCALE:GREGORIAN
BEGIN:VEVENT
X-WR-TIMEZONE:Europe/Berlin
DTSTART:20260527T100000
DTEND:20260527T110000
LOCATION:FUNDUS THEATER \, Sievekingdamm 3 - Platz der Kinderrechte \, 20535 Hamburg
DTSTAMP:20260423T110523
SUMMARY:1400 Tonnen Sand (3-10 J.+Erw.)
URL;VALUE=URI:https://www.kultur-hamburg.de/veranstaltungen/1400-tonnen-sand-3-10-j.erw.-801748
DESCRIPTION:oder warum dem Sandmann die Träume ausgehen
UID:59cbcb99a08028428678f8affecfcd7d@kulturhamburg
END:VEVENT
END:VCALENDAR