BEGIN:VCALENDAR
VERSION:2.0
PRODID:-//STADTKULTUR HAMBURG//kultur-hamburg.de///DE
CALSCALE:GREGORIAN
BEGIN:VEVENT
X-WR-TIMEZONE:Europe/Berlin
DTSTART:20260525T160000
DTEND:20260525T170000
LOCATION:FUNDUS THEATER \, Sievekingdamm 3 - Platz der Kinderrechte \, 20535 Hamburg
DTSTAMP:20260423T081715
SUMMARY:1400 Tonnen Sand (3-10 J.+Erw.)
URL;VALUE=URI:https://www.kultur-hamburg.de/veranstaltungen/1400-tonnen-sand-3-10-j.erw.-801751
DESCRIPTION:oder warum dem Sandmann die Träume ausgehen
UID:655caa4fec8684e370df82c97c4554b1@kulturhamburg
END:VEVENT
END:VCALENDAR