BEGIN:VCALENDAR
VERSION:2.0
PRODID:-//STADTKULTUR HAMBURG//kultur-hamburg.de///DE
CALSCALE:GREGORIAN
BEGIN:VEVENT
X-WR-TIMEZONE:Europe/Berlin
DTSTART:20260606T160000
DTEND:20260606T180000
LOCATION:FUNDUS THEATER \, Sievekingdamm 3 - Platz der Kinderrechte \, 20535 Hamburg
DTSTAMP:20260425T224824
SUMMARY:Die Versammlung der Dinge (ab 6 Jahre)
URL;VALUE=URI:https://www.kultur-hamburg.de/veranstaltungen/die-versammlung-der-dinge-ab-6-jahre-801755
DESCRIPTION:Interaktive Ausstellung mit offenem Format
UID:a4a0441959df79b03afc79afa9908d24@kulturhamburg
END:VEVENT
END:VCALENDAR