BEGIN:VCALENDAR
VERSION:2.0
PRODID:-//STADTKULTUR HAMBURG//kultur-hamburg.de///DE
CALSCALE:GREGORIAN
BEGIN:VEVENT
X-WR-TIMEZONE:Europe/Berlin
DTSTART:20260607T160000
DTEND:20260607T180000
LOCATION:FUNDUS THEATER \, Sievekingdamm 3 - Platz der Kinderrechte \, 20535 Hamburg
DTSTAMP:20260426T004058
SUMMARY:Die Versammlung der Dinge (ab 6 Jahre)
URL;VALUE=URI:https://www.kultur-hamburg.de/veranstaltungen/die-versammlung-der-dinge-ab-6-jahre-801756
DESCRIPTION:Interaktive Ausstellung mit offenem Format
UID:c7b0447525e8bf72c95db5931efc412b@kulturhamburg
END:VEVENT
END:VCALENDAR