BEGIN:VCALENDAR
VERSION:2.0
PRODID:-//STADTKULTUR HAMBURG//kultur-hamburg.de///DE
CALSCALE:GREGORIAN
BEGIN:VEVENT
X-WR-TIMEZONE:Europe/Berlin
DTSTART:20260517T190000
DTEND:20260517T213000
LOCATION:Mut! Theater \, Amandastraße 58 \, 20357 Hamburg
DTSTAMP:20260422T175359
SUMMARY:Mirina Janne d Arce/ Kurdisch
URL;VALUE=URI:https://www.kultur-hamburg.de/veranstaltungen/mirina-janne-d-arce-kurdisch-802054
DESCRIPTION:Das Stück „Der wahnsinnige Tod der Jeanne d’Arc“ von Stefan Tsanev, das von der Legende der Jeanne d’Arc inspiriert ist, ist reich an Symbolen, die zeigen, wie dominante Ideologien wie Religion und patriarchaler Nationalismus versuchen, die Menschheit – insbesondere Frauen – zu unterdrücken.
UID:89c1400d9766bd4c0545807a342be582@kulturhamburg
END:VEVENT
END:VCALENDAR