BEGIN:VCALENDAR
VERSION:2.0
PRODID:-//STADTKULTUR HAMBURG//kultur-hamburg.de///DE
CALSCALE:GREGORIAN
BEGIN:VEVENT
X-WR-TIMEZONE:Europe/Berlin
DTSTART:20260531T120000
DTEND:20260531T160000
LOCATION:FUNDUS THEATER \, Sievekingdamm 3 - Platz der Kinderrechte \, 20535 Hamburg
DTSTAMP:20260423T174131
SUMMARY:Performancekunst umsonst und für alle
URL;VALUE=URI:https://www.kultur-hamburg.de/veranstaltungen/performancekunst-umsonst-und-fuer-alle-802345
DESCRIPTION:Wenn man Performance-Kunst macht, spielt und forscht man dabei gleichzeitig und manchmal verändert man sogar die Welt. Deshalb ist Performance-Kunst meistens unsere Lieblingskunst.
UID:13d50975d8122c90ab2b9a51472cd2f3@kulturhamburg
END:VEVENT
END:VCALENDAR