BEGIN:VCALENDAR
VERSION:2.0
PRODID:-//STADTKULTUR HAMBURG//kultur-hamburg.de///DE
CALSCALE:GREGORIAN
BEGIN:VEVENT
X-WR-TIMEZONE:Europe/Berlin
DTSTART:20260607T150000
DTEND:20260607T180000
LOCATION:FUNDUS THEATER \, Sievekingdamm 3 - Platz der Kinderrechte \, 20535 Hamburg
DTSTAMP:20260426T004021
SUMMARY:Performancekunst umsonst und für alle
URL;VALUE=URI:https://www.kultur-hamburg.de/veranstaltungen/performancekunst-umsonst-und-fuer-alle-802346
DESCRIPTION:Wenn man Performance-Kunst macht, spielt und forscht man dabei gleichzeitig und manchmal verändert man sogar die Welt. Deshalb ist Performance-Kunst meistens unsere Lieblingskunst.
UID:360e9e53528c61c42cb8644b440d21a0@kulturhamburg
END:VEVENT
END:VCALENDAR