BEGIN:VCALENDAR
VERSION:2.0
PRODID:-//STADTKULTUR HAMBURG//kultur-hamburg.de///DE
CALSCALE:GREGORIAN
BEGIN:VEVENT
X-WR-TIMEZONE:Europe/Berlin
DTSTART:20260515T190000
DTEND:20260515T201500
LOCATION:Mut! Theater \, Amandastraße 58 \, 20357 Hamburg
DTSTAMP:20260422T141326
SUMMARY:Melankolî/Puppentheater für Erwachsene
URL;VALUE=URI:https://www.kultur-hamburg.de/veranstaltungen/melankolpuppentheater-fuer-erwachsene-802364
DESCRIPTION:Politische Komödie / Interaktives kurdisches Puppentheater für Erwachsene (+16) Kurdisch/Kurmanci
UID:628a1bad393837eea0a4731386bb1462@kulturhamburg
END:VEVENT
END:VCALENDAR