BEGIN:VCALENDAR
VERSION:2.0
PRODID:-//STADTKULTUR HAMBURG//kultur-hamburg.de///DE
CALSCALE:GREGORIAN
BEGIN:VEVENT
X-WR-TIMEZONE:Europe/Berlin
DTSTART:20260513T110000
DTEND:20260513T180000
LOCATION:KUNSTKLINIK \, Martinistraße 44a \, 20251 Hamburg
DTSTAMP:20260420T100429
SUMMARY:Expansion. Enver Hirsch
URL;VALUE=URI:https://www.kultur-hamburg.de/veranstaltungen/expansion.-enver-hirsch-804546
DESCRIPTION:Im Rahmen des Architektursommers zeigt die Geschichtswerkstatt Eppendorf Enver Hirschs preisgekrönte Fotoserie „Expansion“: Die Fotos dokumentieren skurrile bauliche Erweiterungen im Hamburger Raum.

Eintritt frei
UID:90a7b64274e75d9fea16dd1e28d019df@kulturhamburg
END:VEVENT
END:VCALENDAR