BEGIN:VCALENDAR
VERSION:2.0
PRODID:-//STADTKULTUR HAMBURG//kultur-hamburg.de///DE
CALSCALE:GREGORIAN
BEGIN:VEVENT
X-WR-TIMEZONE:Europe/Berlin
DTSTART:20260514T110000
DTEND:20260514T180000
LOCATION:KUNSTKLINIK \, Martinistraße 44a \, 20251 Hamburg
DTSTAMP:20260422T111403
SUMMARY:Expansion. Enver Hirsch
URL;VALUE=URI:https://www.kultur-hamburg.de/veranstaltungen/expansion.-enver-hirsch-804547
DESCRIPTION:Im Rahmen des Architektursommers zeigt die Geschichtswerkstatt Eppendorf Enver Hirschs preisgekrönte Fotoserie „Expansion“: Die Fotos dokumentieren skurrile bauliche Erweiterungen im Hamburger Raum.

Eintritt frei
UID:e89e98f0ec153b4ea10107daad348e9f@kulturhamburg
END:VEVENT
END:VCALENDAR