BEGIN:VCALENDAR
VERSION:2.0
PRODID:-//STADTKULTUR HAMBURG//kultur-hamburg.de///DE
CALSCALE:GREGORIAN
BEGIN:VEVENT
X-WR-TIMEZONE:Europe/Berlin
DTSTART:20260526T110000
DTEND:20260526T180000
LOCATION:KUNSTKLINIK \, Martinistraße 44a \, 20251 Hamburg
DTSTAMP:20260423T094914
SUMMARY:Expansion. Enver Hirsch
URL;VALUE=URI:https://www.kultur-hamburg.de/veranstaltungen/expansion.-enver-hirsch-804555
DESCRIPTION:Im Rahmen des Architektursommers zeigt die Geschichtswerkstatt Eppendorf Enver Hirschs preisgekrönte Fotoserie „Expansion“: Die Fotos dokumentieren skurrile bauliche Erweiterungen im Hamburger Raum.

Eintritt frei
UID:63a322a02def66e7e82a98199f92ceee@kulturhamburg
END:VEVENT
END:VCALENDAR