BEGIN:VCALENDAR
VERSION:2.0
PRODID:-//STADTKULTUR HAMBURG//kultur-hamburg.de///DE
CALSCALE:GREGORIAN
BEGIN:VEVENT
X-WR-TIMEZONE:Europe/Berlin
DTSTART:20260604T110000
DTEND:20260604T180000
LOCATION:KUNSTKLINIK \, Martinistraße 44a \, 20251 Hamburg
DTSTAMP:20260425T191626
SUMMARY:Expansion. Enver Hirsch
URL;VALUE=URI:https://www.kultur-hamburg.de/veranstaltungen/expansion.-enver-hirsch-804562
DESCRIPTION:Im Rahmen des Architektursommers zeigt die Geschichtswerkstatt Eppendorf Enver Hirschs preisgekrönte Fotoserie „Expansion“: Die Fotos dokumentieren skurrile bauliche Erweiterungen im Hamburger Raum.

Eintritt frei
UID:51fece974efc083f6bf43c4e84777cee@kulturhamburg
END:VEVENT
END:VCALENDAR