BEGIN:VCALENDAR
VERSION:2.0
PRODID:-//STADTKULTUR HAMBURG//kultur-hamburg.de///DE
CALSCALE:GREGORIAN
BEGIN:VEVENT
X-WR-TIMEZONE:Europe/Berlin
DTSTART:20260509T160000
DTEND:20260509T190000
LOCATION:KUNSTKLINIK \, Martinistraße 44a \, 20251 Hamburg
DTSTAMP:20260420T030618
SUMMARY:Vernissage: Expansion. Enver Hirsch
URL;VALUE=URI:https://www.kultur-hamburg.de/veranstaltungen/vernissage-expansion.-enver-hirsch-804568
DESCRIPTION:Im Rahmen des Architektursommers zeigt die Geschichtswerkstatt Eppendorf Enver Hirschs preisgekrönte Fotoserie „Expansion“: Die Fotos dokumentieren skurrile bauliche Erweiterungen im Hamburger Raum.

Eintritt frei
UID:c1f626dc1571dbb4c006862959b100ee@kulturhamburg
END:VEVENT
END:VCALENDAR