BEGIN:VCALENDAR
VERSION:2.0
PRODID:-//STADTKULTUR HAMBURG//kultur-hamburg.de///DE
CALSCALE:GREGORIAN
BEGIN:VEVENT
X-WR-TIMEZONE:Europe/Berlin
DTSTART:20260505T180000
DTEND:20260505T200000
LOCATION:Horner Freiheit \, Am Gojenboom 46 \, 22111 Hamburg
DTSTAMP:20260419T201934
SUMMARY:CHECK MATE!
URL;VALUE=URI:https://www.kultur-hamburg.de/veranstaltungen/check-mate!-805713
DESCRIPTION:Check & Connect
UID:2ce89248ad2aed05225aa0f078da4827@kulturhamburg
END:VEVENT
END:VCALENDAR