BEGIN:VCALENDAR
VERSION:2.0
PRODID:-//STADTKULTUR HAMBURG//kultur-hamburg.de///DE
CALSCALE:GREGORIAN
BEGIN:VEVENT
X-WR-TIMEZONE:Europe/Berlin
DTSTART:20260512T180000
DTEND:20260512T200000
LOCATION:Horner Freiheit \, Am Gojenboom 46 \, 22111 Hamburg
DTSTAMP:20260420T081524
SUMMARY:CHECK MATE!
URL;VALUE=URI:https://www.kultur-hamburg.de/veranstaltungen/check-mate!-805714
DESCRIPTION:Check & Connect
UID:2537217bc7c919d68e3a22e669b4ecd2@kulturhamburg
END:VEVENT
END:VCALENDAR