BEGIN:VCALENDAR
VERSION:2.0
PRODID:-//STADTKULTUR HAMBURG//kultur-hamburg.de///DE
CALSCALE:GREGORIAN
BEGIN:VEVENT
X-WR-TIMEZONE:Europe/Berlin
DTSTART:20260602T180000
DTEND:20260602T200000
LOCATION:Horner Freiheit \, Am Gojenboom 46 \, 22111 Hamburg
DTSTAMP:20260425T153739
SUMMARY:CHECK MATE!
URL;VALUE=URI:https://www.kultur-hamburg.de/veranstaltungen/check-mate!-805717
DESCRIPTION:Check & Connect
UID:b67998d88bddd9954bc01fd375e2c3d6@kulturhamburg
END:VEVENT
END:VCALENDAR