BEGIN:VCALENDAR
VERSION:2.0
PRODID:-//STADTKULTUR HAMBURG//kultur-hamburg.de///DE
CALSCALE:GREGORIAN
BEGIN:VEVENT
X-WR-TIMEZONE:Europe/Berlin
DTSTART:20260609T180000
DTEND:20260609T200000
LOCATION:Horner Freiheit \, Am Gojenboom 46 \, 22111 Hamburg
DTSTAMP:20260426T041231
SUMMARY:CHECK MATE!
URL;VALUE=URI:https://www.kultur-hamburg.de/veranstaltungen/check-mate!-805718
DESCRIPTION:Check & Connect
UID:8a3cd26b66a7d19fda4988c3061ced7e@kulturhamburg
END:VEVENT
END:VCALENDAR