BEGIN:VCALENDAR
VERSION:2.0
PRODID:-//STADTKULTUR HAMBURG//kultur-hamburg.de///DE
CALSCALE:GREGORIAN
BEGIN:VEVENT
X-WR-TIMEZONE:Europe/Berlin
DTSTART:20260509T190000
DTEND:20260509T223000
LOCATION:Kultur Palast Hamburg \, Öjendorfer Weg 30a \, 22119 Hamburg
DTSTAMP:20260419T220502
SUMMARY:Kriminal Dinner
URL;VALUE=URI:https://www.kultur-hamburg.de/veranstaltungen/kriminal-dinner-805848
DESCRIPTION:Der letzte Joint der Marie Juana – Ein Hippie Krimi
UID:901bcc7518b295700d5660d41d5f6cd2@kulturhamburg
END:VEVENT
END:VCALENDAR