BEGIN:VCALENDAR
VERSION:2.0
PRODID:-//STADTKULTUR HAMBURG//kultur-hamburg.de///DE
CALSCALE:GREGORIAN
BEGIN:VEVENT
X-WR-TIMEZONE:Europe/Berlin
DTSTART:20260605T200000
DTEND:20260605T223000
LOCATION:MOTTE VERANSTALTUNGEN \, Rothestraße 48 \, 22765 Hamburg
DTSTAMP:20260425T210744
SUMMARY:TÖRN Cup – Der Hamburger Maestro™
URL;VALUE=URI:https://www.kultur-hamburg.de/veranstaltungen/toern-cup--der-hamburger-maestroae-806742
DESCRIPTION:
UID:0ffe934627d81aa3cb71f4de1362902c@kulturhamburg
END:VEVENT
END:VCALENDAR