BEGIN:VCALENDAR
VERSION:2.0
PRODID:-//STADTKULTUR HAMBURG//kultur-hamburg.de///DE
CALSCALE:GREGORIAN
BEGIN:VEVENT
X-WR-TIMEZONE:Europe/Berlin
DTSTART:20260503T150000
DTEND:20260503T160000
LOCATION:KUNSTKLINIK \, Martinistraße 44a \, 20251 Hamburg
DTSTAMP:20260419T170316
SUMMARY:Kindertheater: Esra will weg
URL;VALUE=URI:https://www.kultur-hamburg.de/veranstaltungen/kindertheater-esra-will-weg-807061
DESCRIPTION:Esra und der nächteliebende Viktor brechen zu einer abenteuerlichen Reise in den hohen Norden auf, um trotz aller Hindernisse gemeinsam den endlosen Tag zu finden.

€8,-
UID:407512057745391aaadfc22e2a4b3094@kulturhamburg
END:VEVENT
END:VCALENDAR