BEGIN:VCALENDAR
VERSION:2.0
PRODID:-//STADTKULTUR HAMBURG//kultur-hamburg.de///DE
CALSCALE:GREGORIAN
BEGIN:VEVENT
X-WR-TIMEZONE:Europe/Berlin
DTSTART:20260515T200000
DTEND:20260515T220000
LOCATION:KUNSTKLINIK \, Martinistraße 44a \, 20251 Hamburg
DTSTAMP:20260422T141327
SUMMARY:Improtheater: Storyline
URL;VALUE=URI:https://www.kultur-hamburg.de/veranstaltungen/improtheater-storyline-807066
DESCRIPTION:Die Improgruppe „Storyline“ erschafft mit eurer Inspiration spontane, überraschende
Geschichten voller Fantasie, Witz und Emotion – ganz ohne Skript.

Eintritt frei, Spenden willkommen
UID:09a040095e187c19b376decd054c6792@kulturhamburg
END:VEVENT
END:VCALENDAR