BEGIN:VCALENDAR
VERSION:2.0
PRODID:-//STADTKULTUR HAMBURG//kultur-hamburg.de///DE
CALSCALE:GREGORIAN
BEGIN:VEVENT
X-WR-TIMEZONE:Europe/Berlin
DTSTART:20260516T100000
DTEND:20260516T160000
LOCATION:KUNSTKLINIK \, Martinistraße 44a \, 20251 Hamburg
DTSTAMP:20260422T160010
SUMMARY:Frauenflohmarkt Tausendschön
URL;VALUE=URI:https://www.kultur-hamburg.de/veranstaltungen/frauenflohmarkt-tausendschoen-807082
DESCRIPTION:1000 schöne und praktische Lieblingsstücke, sauber, heil und in guter Qualität. Männer sind als Besucher, Käufer und Aufbauhelfer herzlich willkommen.

Eintritt: € 1,-
UID:b7e8b40a057e81808d7a661aa4e0c7d8@kulturhamburg
END:VEVENT
END:VCALENDAR