BEGIN:VCALENDAR
VERSION:2.0
PRODID:-//STADTKULTUR HAMBURG//kultur-hamburg.de///DE
CALSCALE:GREGORIAN
BEGIN:VEVENT
X-WR-TIMEZONE:Europe/Berlin
DTSTART:20260517T100000
DTEND:20260517T160000
LOCATION:KUNSTKLINIK \, Martinistraße 44a \, 20251 Hamburg
DTSTAMP:20260422T175338
SUMMARY:Frauenflohmarkt Tausendschön
URL;VALUE=URI:https://www.kultur-hamburg.de/veranstaltungen/frauenflohmarkt-tausendschoen-807083
DESCRIPTION:1000 schöne und praktische Lieblingsstücke, sauber, heil und in guter Qualität. Männer sind als Besucher, Käufer und Aufbauhelfer herzlich willkommen.

Eintritt: € 1,-
UID:b85046e4a82c788cd771905c785ac3bf@kulturhamburg
END:VEVENT
END:VCALENDAR