BEGIN:VCALENDAR
VERSION:2.0
PRODID:-//STADTKULTUR HAMBURG//kultur-hamburg.de///DE
CALSCALE:GREGORIAN
BEGIN:VEVENT
X-WR-TIMEZONE:Europe/Berlin
DTSTART:20260520T190000
DTEND:20260520T203000
LOCATION:KUNSTKLINIK \, Martinistraße 44a \, 20251 Hamburg
DTSTAMP:20260422T230339
SUMMARY:Lesung Ulrike Sparr
URL;VALUE=URI:https://www.kultur-hamburg.de/veranstaltungen/lesung-ulrike-sparr-807084
DESCRIPTION:Umwege sind Programm, als Frauke Meerkatz in Volksdorf zu einer Fahrradtour quer durch Hamburg startet. Ulrike Sparr liest aus ihrem ersten Roman.

Eintritt frei
UID:d891ec9c286a1e30071a53632726833e@kulturhamburg
END:VEVENT
END:VCALENDAR