BEGIN:VCALENDAR
VERSION:2.0
PRODID:-//STADTKULTUR HAMBURG//kultur-hamburg.de///DE
CALSCALE:GREGORIAN
BEGIN:VEVENT
X-WR-TIMEZONE:Europe/Berlin
DTSTART:20260430T200000
DTEND:20260430T220000
LOCATION:Goldbekhaus \, Moorfuhrtweg 9 \, 22301 Hamburg
DTSTAMP:20260421T104634
SUMMARY:Tanz in den Mai
URL;VALUE=URI:https://www.kultur-hamburg.de/veranstaltungen/tanz-in-den-mai-807305
DESCRIPTION:
UID:a85b5c7da07001c753a477657fe30a2e@kulturhamburg
END:VEVENT
END:VCALENDAR