BEGIN:VCALENDAR
VERSION:2.0
PRODID:-//STADTKULTUR HAMBURG//kultur-hamburg.de///DE
CALSCALE:GREGORIAN
BEGIN:VEVENT
X-WR-TIMEZONE:Europe/Berlin
DTSTART:20260509T190000
DTEND:20260510T030000
LOCATION:LOLA Kulturzentrum \, Lohbrügger Landstraße 8 \, 21031 Hamburg
DTSTAMP:20260420T025219
SUMMARY:BERGEDORFER Ü-30 PARTY
URL;VALUE=URI:https://www.kultur-hamburg.de/veranstaltungen/bergedorfer-ue-30-party-807881
DESCRIPTION:Essen – Klönen – Tanzen
UID:b355f3fc5cafdf05d803f6f22d380569@kulturhamburg
END:VEVENT
END:VCALENDAR