BEGIN:VCALENDAR
VERSION:2.0
PRODID:-//STADTKULTUR HAMBURG//kultur-hamburg.de///DE
CALSCALE:GREGORIAN
BEGIN:VEVENT
X-WR-TIMEZONE:Europe/Berlin
DTSTART:20260521T200000
DTEND:20260521T223000
LOCATION:LOLA Kulturzentrum \, Lohbrügger Landstraße 8 \, 21031 Hamburg
DTSTAMP:20260423T004834
SUMMARY:STEIFE BRISE "Momentical - das improvisierte Musical"
URL;VALUE=URI:https://www.kultur-hamburg.de/veranstaltungen/steife-brise-momentical-das-improvisierte-musical-807884
DESCRIPTION:Erleben Sie ein vollständig improvisiertes Musical! Eine mitreißende Show, die Sie teilhaben und staunen lassen wird!
UID:505e93fe17a070655b3188b2c2bc884f@kulturhamburg
END:VEVENT
END:VCALENDAR