BEGIN:VCALENDAR
VERSION:2.0
PRODID:-//STADTKULTUR HAMBURG//kultur-hamburg.de///DE
CALSCALE:GREGORIAN
BEGIN:VEVENT
X-WR-TIMEZONE:Europe/Berlin
DTSTART:20260516T230000
DTEND:20260517T040000
LOCATION:LOLA Kulturzentrum \, Lohbrügger Landstraße 8 \, 21031 Hamburg
DTSTAMP:20260422T160405
SUMMARY:BEATS UNITED - PARTY
URL;VALUE=URI:https://www.kultur-hamburg.de/veranstaltungen/beats-united-party-807888
DESCRIPTION:
UID:b0851d2fbc784bb7789b8c8845fdf18e@kulturhamburg
END:VEVENT
END:VCALENDAR