BEGIN:VCALENDAR
VERSION:2.0
PRODID:-//STADTKULTUR HAMBURG//kultur-hamburg.de///DE
CALSCALE:GREGORIAN
BEGIN:VEVENT
X-WR-TIMEZONE:Europe/Berlin
DTSTART:20260529T200000
DTEND:20260529T220000
LOCATION:LOLA Kulturzentrum \, Lohbrügger Landstraße 8 \, 21031 Hamburg
DTSTAMP:20260423T141250
SUMMARY:GURU GURU - Live in Concert
URL;VALUE=URI:https://www.kultur-hamburg.de/veranstaltungen/guru-guru-live-in-concert-807901
DESCRIPTION:
UID:75e1ddfe3c1631b0bbe90d3b571046d1@kulturhamburg
END:VEVENT
END:VCALENDAR