BEGIN:VCALENDAR
VERSION:2.0
PRODID:-//STADTKULTUR HAMBURG//kultur-hamburg.de///DE
CALSCALE:GREGORIAN
BEGIN:VEVENT
X-WR-TIMEZONE:Europe/Berlin
DTSTART:20270921T191500
DTEND:20270921T220000
LOCATION:Zinnschmelze \, Maurienstraße 19 \, 22305 Hamburg
DTSTAMP:20260422T114700
SUMMARY:Tango Argentino
URL;VALUE=URI:https://www.kultur-hamburg.de/kurse_workshops/tango-argentino-808508
DESCRIPTION:Du wolltest schon immer einmal Tango Argentino ausprobieren?
UID:e58244979c70cb119304088fe0e486b0@kulturhamburg
END:VEVENT
END:VCALENDAR