BEGIN:VCALENDAR
VERSION:2.0
PRODID:-//STADTKULTUR HAMBURG//kultur-hamburg.de///DE
CALSCALE:GREGORIAN
BEGIN:VEVENT
X-WR-TIMEZONE:Europe/Berlin
DTSTART:20270928T191500
DTEND:20270928T220000
LOCATION:Zinnschmelze \, Maurienstraße 19 \, 22305 Hamburg
DTSTAMP:20260422T101108
SUMMARY:Tango Argentino
URL;VALUE=URI:https://www.kultur-hamburg.de/kurse_workshops/tango-argentino-808509
DESCRIPTION:Du wolltest schon immer einmal Tango Argentino ausprobieren?
UID:b6eec3e4a5d99c66d54c3b90d82fd75c@kulturhamburg
END:VEVENT
END:VCALENDAR