BEGIN:VCALENDAR
VERSION:2.0
PRODID:-//STADTKULTUR HAMBURG//kultur-hamburg.de///DE
CALSCALE:GREGORIAN
BEGIN:VEVENT
X-WR-TIMEZONE:Europe/Berlin
DTSTART:20271005T191500
DTEND:20271005T220000
LOCATION:Zinnschmelze \, Maurienstraße 19 \, 22305 Hamburg
DTSTAMP:20260422T080644
SUMMARY:Tango Argentino
URL;VALUE=URI:https://www.kultur-hamburg.de/kurse_workshops/tango-argentino-808510
DESCRIPTION:Du wolltest schon immer einmal Tango Argentino ausprobieren?
UID:e59a5b0b3c3310ce04a85bdf2ee0c56b@kulturhamburg
END:VEVENT
END:VCALENDAR