BEGIN:VCALENDAR
VERSION:2.0
PRODID:-//STADTKULTUR HAMBURG//kultur-hamburg.de///DE
CALSCALE:GREGORIAN
BEGIN:VEVENT
X-WR-TIMEZONE:Europe/Berlin
DTSTART:20271012T191500
DTEND:20271012T220000
LOCATION:Zinnschmelze \, Maurienstraße 19 \, 22305 Hamburg
DTSTAMP:20260422T062720
SUMMARY:Tango Argentino
URL;VALUE=URI:https://www.kultur-hamburg.de/kurse_workshops/tango-argentino-808511
DESCRIPTION:Du wolltest schon immer einmal Tango Argentino ausprobieren?
UID:2dbb5eabc36e44f1bd1284dd3f12e857@kulturhamburg
END:VEVENT
END:VCALENDAR