BEGIN:VCALENDAR
VERSION:2.0
PRODID:-//STADTKULTUR HAMBURG//kultur-hamburg.de///DE
CALSCALE:GREGORIAN
BEGIN:VEVENT
X-WR-TIMEZONE:Europe/Berlin
DTSTART:20260524T180000
DTEND:20260524T210000
LOCATION:Mut! Theater \, Amandastraße 58 \, 20357 Hamburg
DTSTAMP:20260423T060735
SUMMARY:Konzert Murad Demir
URL;VALUE=URI:https://www.kultur-hamburg.de/veranstaltungen/konzert-murad-demir-808542
DESCRIPTION:Hakkâri’de doğup büyüyen Murad Demir, memleketinin geleneksel müziklerini derleyip kendi özgün yorumuyla icra eden güçlü bir ses olarak, Mut Theater'da dinleyicileriyle buluşuyor.
UID:e7f414a17dfac95cffaa0e8bd502f7d0@kulturhamburg
END:VEVENT
END:VCALENDAR