BEGIN:VCALENDAR
VERSION:2.0
PRODID:-//STADTKULTUR HAMBURG//kultur-hamburg.de///DE
CALSCALE:GREGORIAN
BEGIN:VEVENT
X-WR-TIMEZONE:Europe/Berlin
DTSTART:20260529T160000
DTEND:20260529T230000
LOCATION:KUNSTKLINIK \, Martinistraße 44a \, 20251 Hamburg
DTSTAMP:20260423T141219
SUMMARY:Iris Kramer Quartett (Jazz)
URL;VALUE=URI:https://www.kultur-hamburg.de/veranstaltungen/iris-kramer-quartett-jazz-809207
DESCRIPTION:Das Iris Kramer Quartett spielt zeitgenössischen, nordisch geprägten Jazz. Inspiriert von ihrer Zweitheimat Island, erzählt Kramer humorvolle und emotionale Geschichten zwischen Realität und Fantasie.

VVK 15 € (erm. 12) / AK 18 € (erm. 15)
UID:834b826f98f92e1aa9cdfd35b51a67de@kulturhamburg
END:VEVENT
END:VCALENDAR