BEGIN:VCALENDAR
VERSION:2.0
PRODID:-//STADTKULTUR HAMBURG//kultur-hamburg.de///DE
CALSCALE:GREGORIAN
BEGIN:VEVENT
X-WR-TIMEZONE:Europe/Berlin
DTSTART:20120724T100000
DTEND:20120724T150000
LOCATION:Zinnschmelze \, Maurienstraße 19 \, 22305 Hamburg
DTSTAMP:20260424T012235
SUMMARY:Rasante Rennwagen
URL;VALUE=URI:https://www.kultur-hamburg.de/kurse_workshops/rasante-rennwagen-80922
DESCRIPTION:Kinderferienprojekt für Kinder von 8 – 12 Jahren,
di.-fr. 10.00 – 15.00 Uhr und am Samstag 14.00 - 18.00 Uhr
UID:fa4200a3b6cf82f6038ff287db040aec@kulturhamburg
END:VEVENT
END:VCALENDAR